BEGIN:VCALENDAR
VERSION:2.0
PRODID:-//High Peaks Canna - ECPv6.15.18//NONSGML v1.0//EN
CALSCALE:GREGORIAN
METHOD:PUBLISH
X-WR-CALNAME:High Peaks Canna
X-ORIGINAL-URL:https://highpeakscanna.com
X-WR-CALDESC:Events for High Peaks Canna
REFRESH-INTERVAL;VALUE=DURATION:PT1H
X-Robots-Tag:noindex
X-PUBLISHED-TTL:PT1H
BEGIN:VTIMEZONE
TZID:America/New_York
BEGIN:DAYLIGHT
TZOFFSETFROM:-0500
TZOFFSETTO:-0400
TZNAME:EDT
DTSTART:20240310T070000
END:DAYLIGHT
BEGIN:STANDARD
TZOFFSETFROM:-0400
TZOFFSETTO:-0500
TZNAME:EST
DTSTART:20241103T060000
END:STANDARD
BEGIN:DAYLIGHT
TZOFFSETFROM:-0500
TZOFFSETTO:-0400
TZNAME:EDT
DTSTART:20250309T070000
END:DAYLIGHT
BEGIN:STANDARD
TZOFFSETFROM:-0400
TZOFFSETTO:-0500
TZNAME:EST
DTSTART:20251102T060000
END:STANDARD
BEGIN:DAYLIGHT
TZOFFSETFROM:-0500
TZOFFSETTO:-0400
TZNAME:EDT
DTSTART:20260308T070000
END:DAYLIGHT
BEGIN:STANDARD
TZOFFSETFROM:-0400
TZOFFSETTO:-0500
TZNAME:EST
DTSTART:20261101T060000
END:STANDARD
END:VTIMEZONE
BEGIN:VEVENT
DTSTART;VALUE=DATE:20251007
DTEND;VALUE=DATE:20251008
DTSTAMP:20260419T225900
CREATED:20250930T235352Z
LAST-MODIFIED:20251008T001159Z
UID:2007-1759795200-1759881599@highpeakscanna.com
SUMMARY:Industry Day – SPAC Employees & Stagehand Union
DESCRIPTION:Calling all Stagehand Union and SPAC employees! Join us the first Tuesday of each month for Industry Daze where your hard work meets well-earned chill. Enjoy 10% off all day with proof of employment \n(just show your paystub).
URL:https://highpeakscanna.com/calendar/industry-day-spac-employees-stagehand-union/
LOCATION:High Peaks Canna\, 137 Maple Avenue\, Saratoga Springs\, NY\, 12866\, United States
CATEGORIES:Industry Daze
ATTACH;FMTTYPE=image/jpeg:https://highpeakscanna.com/wp-content/uploads/2025/09/INDUSTRY-NIGHTS.jpg-1.jpg
END:VEVENT
BEGIN:VEVENT
DTSTART;VALUE=DATE:20250923
DTEND;VALUE=DATE:20250924
DTSTAMP:20260419T225900
CREATED:20250913T155227Z
LAST-MODIFIED:20250913T155249Z
UID:1981-1758585600-1758671999@highpeakscanna.com
SUMMARY:Industry Day – Healthcare Professionals
DESCRIPTION:Calling all Healthcare Workers! Join us the Fourth Tuesday of every month for Healthcare Professional Industry Daze\, where your hard work meets well-deserved chill. Healthcare Workers enjoy 10% Off with valid badge\, all day long.
URL:https://highpeakscanna.com/calendar/industry-day-healthcare-professionals-oct/
LOCATION:High Peaks Canna\, 137 Maple Avenue\, Saratoga Springs\, NY\, 12866\, United States
CATEGORIES:Industry Daze
ATTACH;FMTTYPE=image/jpeg:https://highpeakscanna.com/wp-content/uploads/2025/07/Industry-Daze.jpg
END:VEVENT
BEGIN:VEVENT
DTSTART;VALUE=DATE:20250916
DTEND;VALUE=DATE:20250917
DTSTAMP:20260419T225900
CREATED:20250909T231703Z
LAST-MODIFIED:20250909T231747Z
UID:1968-1757980800-1758067199@highpeakscanna.com
SUMMARY:Industry Daze – Hospitality Workers
DESCRIPTION:Hospitality crew\, this one’s for you. On Tuesday\, Sept 16\, join us for Industry Daze. Bring in a recent schedule\, pay stub\, or work ID from a bar\, restaurant\, hotel\, or venue and enjoy 10% off as a thank-you for all the late nights\, long shifts\, and hard work you put in.
URL:https://highpeakscanna.com/calendar/industry-daze-hospitality-workers/
LOCATION:High Peaks Canna\, 137 Maple Avenue\, Saratoga Springs\, NY\, 12866\, United States
CATEGORIES:Industry Daze
ATTACH;FMTTYPE=image/jpeg:https://highpeakscanna.com/wp-content/uploads/2025/09/INDUSTRY-NIGHTS.jpg-1.jpg
END:VEVENT
BEGIN:VEVENT
DTSTART;VALUE=DATE:20250826
DTEND;VALUE=DATE:20250827
DTSTAMP:20260419T225900
CREATED:20250723T230142Z
LAST-MODIFIED:20250730T001207Z
UID:1705-1756166400-1756252799@highpeakscanna.com
SUMMARY:Industry Day - Healthcare Professionals
DESCRIPTION:Calling all Healthcare Workers! Join us the last Tuesday of every month for Healthcare Professional Industry Daze\, where your hard work meets well-deserved chill. Healthcare Workers enjoy 10% Off with valid badge\, all day long.
URL:https://highpeakscanna.com/calendar/industry-day-healthcare-professionals/
LOCATION:High Peaks Canna\, 137 Maple Avenue\, Saratoga Springs\, NY\, 12866\, United States
CATEGORIES:Industry Daze
ATTACH;FMTTYPE=image/jpeg:https://highpeakscanna.com/wp-content/uploads/2025/07/Industry-Daze.jpg
END:VEVENT
END:VCALENDAR